BEGIN:VCALENDAR
VERSION:2.0
PRODID:-//NMC Cat | Caterpillar Dealer | Nebraska, Pottawattamie County, IA - ECPv4.9.10//NONSGML v1.0//EN
CALSCALE:GREGORIAN
METHOD:PUBLISH
X-WR-CALNAME:NMC Cat | Caterpillar Dealer | Nebraska, Pottawattamie County, IA
X-ORIGINAL-URL:https://nmccat.com
X-WR-CALDESC:Events for NMC Cat | Caterpillar Dealer | Nebraska, Pottawattamie County, IA
BEGIN:VTIMEZONE
TZID:UTC
BEGIN:STANDARD
TZOFFSETFROM:+0000
TZOFFSETTO:+0000
TZNAME:UTC
DTSTART:20210101T000000
END:STANDARD
END:VTIMEZONE
BEGIN:VEVENT
DTSTART;TZID=UTC:20211201T190000
DTEND;TZID=UTC:20211202T183000
DTSTAMP:20260420T083816
CREATED:20200807T202201Z
LAST-MODIFIED:20211124T160654Z
UID:216934-1638385200-1638469800@nmccat.com
SUMMARY:Nebraska Cattlemen Trade Show
DESCRIPTION:Visit us at booth number 6 at the Nebraska Cattlemen Trade Show in Kearney\, NE\, and make sure to register to win a Cat scale model and Cat hat! \nFor more information\, visit: nebraskacattlemen.org \n
URL:https://nmccat.com/event/nebraska-cattlemen/
LOCATION:Younes Conference Center\, Kearney\, NE\, 416 Talmadge\, Kearney\, NE\, 68845\, United States
END:VEVENT
END:VCALENDAR